BEGIN:VCALENDAR
VERSION:2.0
PRODID:-//ZContent.net//ZapCalLib 1.0//EN
CALSCALE:GREGORIAN
METHOD:PUBLISH
BEGIN:VEVENT
SUMMARY:Wczesny i miejscowo zaawansowany niedrobnokomórkowy rak płuca
DTSTART:20251219T170000
DTEND:20251219T182000
UID:Wczesny i miejscowo zaawansowany niedrobnokomórkowy rak płuca56489_17
 76716579
DTSTAMP:20260420T202259
Description:
END:VEVENT
END:VCALENDAR
