BEGIN:VCALENDAR
VERSION:2.0
PRODID:-//ZContent.net//ZapCalLib 1.0//EN
CALSCALE:GREGORIAN
METHOD:PUBLISH
BEGIN:VEVENT
SUMMARY:Dyskusja
DTSTART:20251219T190500
DTEND:20251219T201000
UID:Dyskusja55889_1776716578
DTSTAMP:20260420T202258
Description:
END:VEVENT
END:VCALENDAR
