BEGIN:VCALENDAR
VERSION:2.0
PRODID:-//ZContent.net//ZapCalLib 1.0//EN
CALSCALE:GREGORIAN
METHOD:PUBLISH
BEGIN:VEVENT
SUMMARY:Drobnokomórkowy rak płuca
DTSTART:20251219T185000
DTEND:20251219T200500
UID:Drobnokomórkowy rak płuca55888_1776716593
DTSTAMP:20260420T202313
Description:
END:VEVENT
END:VCALENDAR
