BEGIN:VCALENDAR
VERSION:2.0
PRODID:-//ZContent.net//ZapCalLib 1.0//EN
CALSCALE:GREGORIAN
METHOD:PUBLISH
BEGIN:VEVENT
SUMMARY:Dyskusja
DTSTART:20251219T183500
DTEND:20251219T195000
UID:Dyskusja55887_1776716591
DTSTAMP:20260420T202311
Description:
END:VEVENT
END:VCALENDAR
