BEGIN:VCALENDAR
VERSION:2.0
PRODID:-//ZContent.net//ZapCalLib 1.0//EN
CALSCALE:GREGORIAN
METHOD:PUBLISH
BEGIN:VEVENT
SUMMARY:Uogólniony niedrobnokomórkowy rak płuca z mutacją kierującą
DTSTART:20251219T181500
DTEND:20251219T193500
UID:Uogólniony niedrobnokomórkowy rak płuca z mutacją kierującą55886_
 1776716592
DTSTAMP:20260420T202312
Description:
END:VEVENT
END:VCALENDAR
