BEGIN:VCALENDAR
VERSION:2.0
PRODID:-//ZContent.net//ZapCalLib 1.0//EN
CALSCALE:GREGORIAN
METHOD:PUBLISH
BEGIN:VEVENT
SUMMARY:Dyskusja
DTSTART:20251219T180500
DTEND:20251219T191500
UID:Dyskusja55885_1776716577
DTSTAMP:20260420T202257
Description:
END:VEVENT
END:VCALENDAR
