BEGIN:VCALENDAR
VERSION:2.0
PRODID:-//ZContent.net//ZapCalLib 1.0//EN
CALSCALE:GREGORIAN
METHOD:PUBLISH
BEGIN:VEVENT
SUMMARY:Uogólniony niedrobnokomórkowy rak płuca bez zidentyfikowanego za
 burzenia molekularnego
DTSTART:20251219T174500
DTEND:20251219T190500
UID:Uogólniony niedrobnokomórkowy rak płuca bez zidentyfikowanego zaburz
 enia molekularnego55884_1776716591
DTSTAMP:20260420T202311
Description:
END:VEVENT
END:VCALENDAR
