BEGIN:VCALENDAR
VERSION:2.0
PRODID:-//ZContent.net//ZapCalLib 1.0//EN
CALSCALE:GREGORIAN
METHOD:PUBLISH
BEGIN:VEVENT
SUMMARY:Dyskusja
DTSTART:20251219T173500
DTEND:20251219T184500
UID:Dyskusja55883_1776716580
DTSTAMP:20260420T202300
Description:
END:VEVENT
END:VCALENDAR
