BEGIN:VCALENDAR
VERSION:2.0
PRODID:-//ZContent.net//ZapCalLib 1.0//EN
CALSCALE:GREGORIAN
METHOD:PUBLISH
BEGIN:VEVENT
SUMMARY:Wykład sponsorowany firmy MSD<br />\nLeczenie okołooperacyjne wcz
 esnych stadiów NDRP<br />\n 
DTSTART:20251219T172000
DTEND:20251219T183500
UID:Wykład sponsorowany firmy MSD<br />\nLeczenie okołooperacyjne wczesny
 ch stadiów NDRP<br />\n 55882_1776716578
DTSTAMP:20260420T202258
Description:
END:VEVENT
END:VCALENDAR
