BEGIN:VCALENDAR
VERSION:2.0
PRODID:-//ZContent.net//ZapCalLib 1.0//EN
CALSCALE:GREGORIAN
METHOD:PUBLISH
BEGIN:VEVENT
SUMMARY:Otwarcie
DTSTART:20251219T165500
DTEND:20251219T180000
UID:Otwarcie55881_1776716641
DTSTAMP:20260420T202401
Description:
END:VEVENT
END:VCALENDAR
